BEGIN:VCALENDAR
VERSION:2.0
PRODID:-//C.V.O. La Spiro - ECPv6.15.14//NONSGML v1.0//EN
CALSCALE:GREGORIAN
METHOD:PUBLISH
X-ORIGINAL-URL:https://laspiro.nl
X-WR-CALDESC:Evenementen voor C.V.O. La Spiro
REFRESH-INTERVAL;VALUE=DURATION:PT1H
X-Robots-Tag:noindex
X-PUBLISHED-TTL:PT1H
BEGIN:VTIMEZONE
TZID:UTC
BEGIN:STANDARD
TZOFFSETFROM:+0000
TZOFFSETTO:+0000
TZNAME:UTC
DTSTART:20230101T000000
END:STANDARD
END:VTIMEZONE
BEGIN:VEVENT
DTSTART;TZID=UTC:20240526T100000
DTEND;TZID=UTC:20240526T100000
DTSTAMP:20260424T011713
CREATED:20240214T205008Z
LAST-MODIFIED:20240219T200611Z
UID:1733-1716717600-1716717600@laspiro.nl
SUMMARY:Buitenwaterduik - Twiske Den Ilp\, Kure-Jan Strand
DESCRIPTION:We verzamelen om 10.00 uur op de duik locatie.
URL:https://laspiro.nl/agenda/buitenwaterduik-twiske-den-ilp-kure-jan-strand/
LOCATION:Twiske Den Ilp – Kure-Jan strand – Landsmeer\, Den Ilp\, 1511BX\, Netherlands
CATEGORIES:Lesduik
END:VEVENT
END:VCALENDAR