BEGIN:VCALENDAR
VERSION:2.0
PRODID:-//C.V.O. La Spiro - ECPv6.15.14//NONSGML v1.0//EN
CALSCALE:GREGORIAN
METHOD:PUBLISH
X-ORIGINAL-URL:https://laspiro.nl
X-WR-CALDESC:Evenementen voor C.V.O. La Spiro
REFRESH-INTERVAL;VALUE=DURATION:PT1H
X-Robots-Tag:noindex
X-PUBLISHED-TTL:PT1H
BEGIN:VTIMEZONE
TZID:UTC
BEGIN:STANDARD
TZOFFSETFROM:+0000
TZOFFSETTO:+0000
TZNAME:UTC
DTSTART:20230101T000000
END:STANDARD
END:VTIMEZONE
BEGIN:VEVENT
DTSTART;TZID=UTC:20240505T100000
DTEND;TZID=UTC:20240505T100000
DTSTAMP:20260423T234737
CREATED:20240214T193653Z
LAST-MODIFIED:20240219T202204Z
UID:1717-1714903200-1714903200@laspiro.nl
SUMMARY:Buitenwaterduik - Twiske Kure-Jan strand
DESCRIPTION:We verzamelen om 10.00 uur op de duik locatie. \nDit betreft een duik die behoort tot de opleiding voor de eerste of tweede ster. Gebrevetteerde duikers zijn ook van harte welkom.
URL:https://laspiro.nl/agenda/buitenwaterduik-twiske-landsmeer/
LOCATION:Twiske Den Ilp – Kure-Jan strand – Landsmeer\, Den Ilp\, 1511BX\, Netherlands
CATEGORIES:Lesduik
END:VEVENT
BEGIN:VEVENT
DTSTART;TZID=UTC:20240512T100000
DTEND;TZID=UTC:20240512T100000
DTSTAMP:20260423T234737
CREATED:20240214T195443Z
LAST-MODIFIED:20240214T203414Z
UID:1720-1715508000-1715508000@laspiro.nl
SUMMARY:Buitenwaterduik en BBQ - Haarlemmermeerse Bos Paviljoen
DESCRIPTION:We verzamelen om 10.00 uur op de duik locatie. Na de duik is er tijd om thuis om de spullen thuis te brengen. De BBQ is vanaf 17:00 uur in Heemskerk bij het vulhok. \nVoor de BBQ wordt een eigen bijdrage gevraagd van € xx\,-. \nOpgeven voor de BBQ kan tot 5 mei 2024 bij Eugenie\, Mariska of Zoë. \n  \nDit betreft een duik die behoort tot de opleiding voor de eerste of tweede ster. \nGebrevetteerde duikers zijn ook van harte welkom.
URL:https://laspiro.nl/agenda/buitenwaterduik-haarlemmermeerse-bos-paviljoen/
LOCATION:Haarlemmermeerse Bos Paviljoen\, Paviljoenlaan 1\, Hoofddorp\, 2131LZ\, Netherlands
CATEGORIES:BBQ,Lesduik
END:VEVENT
BEGIN:VEVENT
DTSTART;TZID=UTC:20240519T100000
DTEND;TZID=UTC:20240519T100000
DTSTAMP:20260423T234737
CREATED:20240214T205411Z
LAST-MODIFIED:20240214T205440Z
UID:1736-1716112800-1716112800@laspiro.nl
SUMMARY:Buitenwaterduik - Toolenburgerplas
DESCRIPTION:We verzamelen om 10.00 uur op de duik locatie.
URL:https://laspiro.nl/agenda/buitenwaterduik-toolenburgerplas-2/
LOCATION:Toolenburgerplas\, Hoofddorp\, 213MJ\, Netherlands
CATEGORIES:Lesduik
END:VEVENT
BEGIN:VEVENT
DTSTART;TZID=UTC:20240526T100000
DTEND;TZID=UTC:20240526T100000
DTSTAMP:20260423T234737
CREATED:20240214T205008Z
LAST-MODIFIED:20240219T200611Z
UID:1733-1716717600-1716717600@laspiro.nl
SUMMARY:Buitenwaterduik - Twiske Den Ilp\, Kure-Jan Strand
DESCRIPTION:We verzamelen om 10.00 uur op de duik locatie.
URL:https://laspiro.nl/agenda/buitenwaterduik-twiske-den-ilp-kure-jan-strand/
LOCATION:Twiske Den Ilp – Kure-Jan strand – Landsmeer\, Den Ilp\, 1511BX\, Netherlands
CATEGORIES:Lesduik
END:VEVENT
END:VCALENDAR