BEGIN:VCALENDAR
VERSION:2.0
PRODID:-//C.V.O. La Spiro - ECPv6.15.14//NONSGML v1.0//EN
CALSCALE:GREGORIAN
METHOD:PUBLISH
X-ORIGINAL-URL:https://laspiro.nl
X-WR-CALDESC:Evenementen voor C.V.O. La Spiro
REFRESH-INTERVAL;VALUE=DURATION:PT1H
X-Robots-Tag:noindex
X-PUBLISHED-TTL:PT1H
BEGIN:VTIMEZONE
TZID:UTC
BEGIN:STANDARD
TZOFFSETFROM:+0000
TZOFFSETTO:+0000
TZNAME:UTC
DTSTART:20240101T000000
END:STANDARD
END:VTIMEZONE
BEGIN:VEVENT
DTSTART;TZID=UTC:20250830T100000
DTEND;TZID=UTC:20250830T100000
DTSTAMP:20260422T221204
CREATED:20250126T205705Z
LAST-MODIFIED:20250126T210454Z
UID:1963-1756548000-1756548000@laspiro.nl
SUMMARY:Buitenwaterduik (moordduik) & BBQ - 't Twiske Oostzaan
DESCRIPTION:Om het buitenwaterseizoen af te sluiten en het zwembadseizoen te openen een duik in ’t Twiske Oostzaan en een BBQ bij het vulhok. \nHet gaat om de moordduik\, zoek alle hints onderwater en ontdek jij wie de moordenaar is? \n  \nMeld je aan bij Eugenie\, Mariska of Zoë \nDe kosten zijn nog niet bekend voor de BBQ\, duik is gratis.
URL:https://laspiro.nl/agenda/buitenwaterduik-30082025/
LOCATION:Twiske Oostzaan\, De Noorderlaaik 8\, Oostzaan\, 1511BX\, Netherlands
CATEGORIES:BBQ,Clubduik
END:VEVENT
END:VCALENDAR